BEGIN:VCALENDAR
VERSION:2.0
PRODID:-//Bask - ECPv6.15.16//NONSGML v1.0//EN
CALSCALE:GREGORIAN
METHOD:PUBLISH
X-WR-CALNAME:Bask
X-ORIGINAL-URL:https://cometobask.com
X-WR-CALDESC:Events for Bask
REFRESH-INTERVAL;VALUE=DURATION:PT1H
X-Robots-Tag:noindex
X-PUBLISHED-TTL:PT1H
BEGIN:VTIMEZONE
TZID:America/New_York
BEGIN:DAYLIGHT
TZOFFSETFROM:-0500
TZOFFSETTO:-0400
TZNAME:EDT
DTSTART:20210314T070000
END:DAYLIGHT
BEGIN:STANDARD
TZOFFSETFROM:-0400
TZOFFSETTO:-0500
TZNAME:EST
DTSTART:20211107T060000
END:STANDARD
BEGIN:DAYLIGHT
TZOFFSETFROM:-0500
TZOFFSETTO:-0400
TZNAME:EDT
DTSTART:20220313T070000
END:DAYLIGHT
BEGIN:STANDARD
TZOFFSETFROM:-0400
TZOFFSETTO:-0500
TZNAME:EST
DTSTART:20221106T060000
END:STANDARD
BEGIN:DAYLIGHT
TZOFFSETFROM:-0500
TZOFFSETTO:-0400
TZNAME:EDT
DTSTART:20230312T070000
END:DAYLIGHT
BEGIN:STANDARD
TZOFFSETFROM:-0400
TZOFFSETTO:-0500
TZNAME:EST
DTSTART:20231105T060000
END:STANDARD
END:VTIMEZONE
BEGIN:VEVENT
DTSTART;TZID=America/New_York:20221105T110000
DTEND;TZID=America/New_York:20221105T140000
DTSTAMP:20260422T194516
CREATED:20221012T155551Z
LAST-MODIFIED:20221012T155551Z
UID:8524-1667646000-1667656800@cometobask.com
SUMMARY:DNRT Trail Run
DESCRIPTION:DNRT’s 8th Annual Trail Race is a 3.1 mile race through Destruction Brook Woods. Walking is also available.
URL:https://cometobask.com/event/dnrt-trail-run/
LOCATION:Dartmouth Natural Resources Trust\, 205 Slades Corner Rd\, Dartmouth\, MA\, 02748\, United States
CATEGORIES:Sponsored By Bask
END:VEVENT
END:VCALENDAR